BEGIN:VCALENDAR
VERSION:2.0
PRODID:-//Lord&#039;s Taverners Tasmania - ECPv4.6.11.1//NONSGML v1.0//EN
CALSCALE:GREGORIAN
METHOD:PUBLISH
X-WR-CALNAME:Lord&#039;s Taverners Tasmania
X-ORIGINAL-URL:https://www.lordstavernerstas.org.au
X-WR-CALDESC:Events for Lord&#039;s Taverners Tasmania
BEGIN:VEVENT
DTSTART;TZID=UTC+10:20180207T160000
DTEND;TZID=UTC+10:20180207T180000
DTSTAMP:20180226T161928
CREATED:20170917T051445Z
LAST-MODIFIED:20180205T040150Z
UID:2662-1518019200-1518026400@www.lordstavernerstas.org.au
SUMMARY:Aust v Eng iT20 – Ian Healy Event\, Wrest Point – Bookings Closed Sorry
DESCRIPTION:Put your hands together for the wicket-keepers.\nAustralia play England at Blundstone Arena on Wednesday\, Feburary 7\, 2018 – as part of the Trans-Tasman Tri-Series\, also including New Zealand.\nLike all Lord’s Taverners big pre-game events\, this one is going to be just as fun and memorable. Join the crowd at Wrest Point\, Boardwalk Gallery Room for some great entertainment while raising funds for our disadvantaged sporting youth.\nWe are privileged to have the support of some of the biggest names in sport and we’re excited to announce Ian Healy as our special guest speaker! \n\nThose who have seen and heard Ian in full flight know this will be a fun-packed insight to his career and the characters and experiences that make the hidden\, behind-the-scenes world of cricket as fascinating as it is revealing and humorous. \nLine up and guests:\n• Ian Healy – Guest speaker\n• Inclusion Cup presentation\n• Panel interview – The wicket keepers’ perspective (special guests)\n• Emerging youth – Reflections and visions from past Award winners. \nFull package – Only $140:\n• Event entry (Wrest Point Boardwalk Gallery)\n• Hot and cold canapes\n• Return ferry transfers to Bellerive\n• iT20 cricket ticket and seat in the Boon Stand (Southern Stand)\nOther options:\n• Event only (no cricket ticket or ferry) – $80\n• Event & ferry (no cricket ticket) – $110\n• Event & cricket (no ferry ticket) – $130\n \nVenue & ticket sales:\n• Bookings Closed Sorry\n \nBOOK NOW \n
URL:https://www.lordstavernerstas.org.au/event/pre-game-aust-v-eng-t20-blundstone-arena/
ATTACH;FMTTYPE=image/png:https://www.lordstavernerstas.org.au/wp-content/uploads/2017/09/iT20Web-1.png
END:VEVENT
END:VCALENDAR